BEGIN:VCALENDAR
VERSION:2.0
PRODID:-//emmanuel4you München - ECPv6.15.20//NONSGML v1.0//EN
CALSCALE:GREGORIAN
METHOD:PUBLISH
X-ORIGINAL-URL:https://muc.emmanuel4you.de
X-WR-CALDESC:Veranstaltungen für emmanuel4you München
REFRESH-INTERVAL;VALUE=DURATION:PT1H
X-Robots-Tag:noindex
X-PUBLISHED-TTL:PT1H
BEGIN:VTIMEZONE
TZID:Europe/Berlin
BEGIN:DAYLIGHT
TZOFFSETFROM:+0100
TZOFFSETTO:+0200
TZNAME:CEST
DTSTART:20230326T010000
END:DAYLIGHT
BEGIN:STANDARD
TZOFFSETFROM:+0200
TZOFFSETTO:+0100
TZNAME:CET
DTSTART:20231029T010000
END:STANDARD
BEGIN:DAYLIGHT
TZOFFSETFROM:+0100
TZOFFSETTO:+0200
TZNAME:CEST
DTSTART:20240331T010000
END:DAYLIGHT
BEGIN:STANDARD
TZOFFSETFROM:+0200
TZOFFSETTO:+0100
TZNAME:CET
DTSTART:20241027T010000
END:STANDARD
BEGIN:DAYLIGHT
TZOFFSETFROM:+0100
TZOFFSETTO:+0200
TZNAME:CEST
DTSTART:20250330T010000
END:DAYLIGHT
BEGIN:STANDARD
TZOFFSETFROM:+0200
TZOFFSETTO:+0100
TZNAME:CET
DTSTART:20251026T010000
END:STANDARD
END:VTIMEZONE
BEGIN:VEVENT
DTSTART;VALUE=DATE:20241005
DTEND;VALUE=DATE:20241013
DTSTAMP:20260421T105824
CREATED:20240724T091130Z
LAST-MODIFIED:20240904T062611Z
UID:10000082-1728169200-1728773999@muc.emmanuel4you.de
SUMMARY:Biographische Exerzitien
DESCRIPTION:Eine Woche für dich und mit Gott\, um dein Leben anzuschauen und dich berühren zu lassen. \nWann? 6.-12.10.2024 \nWo? Heiligenbrunn
URL:https://muc.emmanuel4you.de/kalender/biographische-exerzitien/
LOCATION:Geistliches Zentrum für Familien Heiligenbrunn\, Heiligenbrunn 36\, Hohenthann (Heiligenbrunn)\, Bayern\, 84098
ATTACH;FMTTYPE=image/png:https://muc.emmanuel4you.de/wp-content/uploads/2024/07/ex.png
END:VEVENT
END:VCALENDAR