BEGIN:VCALENDAR
VERSION:2.0
PRODID:-//emmanuel4you München - ECPv6.15.20//NONSGML v1.0//EN
CALSCALE:GREGORIAN
METHOD:PUBLISH
X-WR-CALNAME:emmanuel4you München
X-ORIGINAL-URL:https://muc.emmanuel4you.de
X-WR-CALDESC:Veranstaltungen für emmanuel4you München
REFRESH-INTERVAL;VALUE=DURATION:PT1H
X-Robots-Tag:noindex
X-PUBLISHED-TTL:PT1H
BEGIN:VTIMEZONE
TZID:Europe/Berlin
BEGIN:DAYLIGHT
TZOFFSETFROM:+0100
TZOFFSETTO:+0200
TZNAME:CEST
DTSTART:20250330T010000
END:DAYLIGHT
BEGIN:STANDARD
TZOFFSETFROM:+0200
TZOFFSETTO:+0100
TZNAME:CET
DTSTART:20251026T010000
END:STANDARD
BEGIN:DAYLIGHT
TZOFFSETFROM:+0100
TZOFFSETTO:+0200
TZNAME:CEST
DTSTART:20260329T010000
END:DAYLIGHT
BEGIN:STANDARD
TZOFFSETFROM:+0200
TZOFFSETTO:+0100
TZNAME:CET
DTSTART:20261025T010000
END:STANDARD
BEGIN:DAYLIGHT
TZOFFSETFROM:+0100
TZOFFSETTO:+0200
TZNAME:CEST
DTSTART:20270328T010000
END:DAYLIGHT
BEGIN:STANDARD
TZOFFSETFROM:+0200
TZOFFSETTO:+0100
TZNAME:CET
DTSTART:20271031T010000
END:STANDARD
END:VTIMEZONE
BEGIN:VEVENT
DTSTART;TZID=Europe/Berlin:20260423T193000
DTEND;TZID=Europe/Berlin:20260423T213000
DTSTAMP:20260423T163549
CREATED:20260319T073610Z
LAST-MODIFIED:20260324T125228Z
UID:10000519-1776972600-1776979800@muc.emmanuel4you.de
SUMMARY:Wirthaustalk
DESCRIPTION:2026- Wirtshaus Flyer A6 \n🟣 Talk im Wirtshaus 🟣\n \nGlaube unter Spannung \nWie leben Christen und Muslime heute miteinander in einer säkularen Gesellschaft?\nWelche Herausforderungen – aber auch Chancen – bringt das für unseren Alltag\, unsere Kultur und unseren Glauben mit sich? \n👉 Darüber sprechen wir offen\, respektvoll und auf Augenhöhe mit spannenden Gästen:\n• Dr. Andreas Renz (Erzbischöfliches Ordinariat München)\n• Gönül Yerli (Islamisches Forum Penzberg)\n• Florian Streibl (Fraktionsvorsitzender Freie Wähler im Bayerischen Landtag) \n🎤 Moderation: Johannes Reichart (TV-Journalist) \n📅 Donnerstag\, 23. April 2026\n🕢 19:30 Uhr\n🍽️ Ab 18:30 Uhr Gelegenheit zum gemeinsamen Abendessen\n📍 Michaeligarten Restaurant am Ostpark\, München \n💡 Eintritt frei\n(Essen und Getränke bitte selbst bezahlen) \nFreu dich auf einen inspirierenden Abend mit Tiefgang\, ehrlichem Austausch und neuen Perspektiven – in gemütlicher Wirtshaus-Atmosphäre. \nKomm vorbei\, bring deine Fragen mit und diskutiere mit!\nWir freuen uns auf dich! ✨
URL:https://muc.emmanuel4you.de/kalender/wirthaustalk/
LOCATION:Michaeligarten Restaurant\, Feichtstr. 10\, München\, Bayern\, 81735\, Germany
ATTACH;FMTTYPE=image/jpeg:https://muc.emmanuel4you.de/wp-content/uploads/2026/03/Wirthaus.jpg
END:VEVENT
BEGIN:VEVENT
DTSTART;TZID=Europe/Berlin:20260423T200000
DTEND;TZID=Europe/Berlin:20260423T220000
DTSTAMP:20260423T163549
CREATED:20251113T130836Z
LAST-MODIFIED:20260203T160800Z
UID:10000466-1776974400-1776981600@muc.emmanuel4you.de
SUMMARY:emmanuel4you(th) - Jugendgebetsabend
DESCRIPTION:Die Emmanuel Jugend München in Zummenarbeit mit emmanuel4you lädt  jeden Donnerstag um 20:00 Uhr herzlich ein zu einem offenen Abend mit Lobpreis\, Impuls\, Anbetung und anschließendem Get-together.Die Treffen finden in der Kirche St. Stephan\, Stephansplatz 2 in München statt – nur etwa 500 Meter vom Sendlinger Tor entfernt.Alle jungen Menschen\, die Gott begegnen\, gemeinsam singen\, beten und ins Gespräch kommen möchten\, sind willkommen!
URL:https://muc.emmanuel4you.de/kalender/emmanuel4youth-jugendgebetsabend-5/2026-04-23/
LOCATION:St. Stephan (Isarvorstadt)\, Stephansplatz 2\, München-Isarvorstadt\, Bayern\, 80337\, Germany
ATTACH;FMTTYPE=image/jpeg:https://muc.emmanuel4you.de/wp-content/uploads/2025/11/b58f8a40-3e68-4701-addb-ac82d0b43dfc.jpg
END:VEVENT
END:VCALENDAR